BEGIN:VCALENDAR
PRODID:-//Compnay Inc//Product Application//EN
VERSION:2.0
METHOD:PUBLISH
BEGIN:VEVENT
DTSTART:20150523T220000Z
DTEND:20150524T215900Z
DTSTAMP:20260419T120324Z
UID:8816a6b1-215b-4f38-8ebf-652ba093e459
CREATED:20260419T120324Z
DESCRIPTION:https://www.oldtimerweb.be/oldtimer-evenementen/weerter-oldtimerboulevard-2015_6910.aspx
LAST-MODIFIED:20260419T120324Z
LOCATION:Bassin 9/10\, 6001GZ Weert\, NL
SEQUENCE:0
STATUS:CONFIRMED
SUMMARY:Weerter Oldtimerboulevard 2015
TRANSP:OPAQUE
END:VEVENT
END:VCALENDAR
