BEGIN:VCALENDAR
PRODID:-//Compnay Inc//Product Application//EN
VERSION:2.0
METHOD:PUBLISH
BEGIN:VEVENT
DTSTART:20100813T220000Z
DTEND:20100814T215900Z
DTSTAMP:20260419T114647Z
UID:573f804e-c74c-4523-b59f-7346999fe2a1
CREATED:20260419T114647Z
DESCRIPTION:https://www.oldtimerweb.be/oldtimer-evenementen/1ste-avondmeeting-opeldrivers-belgium_3163.aspx
LAST-MODIFIED:20260419T114647Z
LOCATION:Zaffelare\, BE
SEQUENCE:0
STATUS:CONFIRMED
SUMMARY:1ste Avondmeeting Opeldrivers Belgium
TRANSP:OPAQUE
END:VEVENT
END:VCALENDAR
