BEGIN:VCALENDAR
PRODID:-//Compnay Inc//Product Application//EN
VERSION:2.0
METHOD:PUBLISH
BEGIN:VEVENT
DTSTART:20260806T220000Z
DTEND:20260807T215900Z
DTSTAMP:20260425T233140Z
UID:4d748e41-01d3-4115-91a8-049a91cfa7b8
CREATED:20260425T233140Z
DESCRIPTION:https://www.oldtimerweb.be/oldtimer-evenementen/us-car-bike-treffen-posterholt_20837.aspx
LAST-MODIFIED:20260425T233140Z
LOCATION:Vurensteeg 4\, 6061EJ Posterholt\, NL
SEQUENCE:0
STATUS:CONFIRMED
SUMMARY:US Car & Bike Treffen Posterholt
TRANSP:OPAQUE
END:VEVENT
END:VCALENDAR
