BEGIN:VCALENDAR
PRODID:-//Compnay Inc//Product Application//EN
VERSION:2.0
METHOD:PUBLISH
BEGIN:VEVENT
DTSTART:20260702T220000Z
DTEND:20260703T215900Z
DTSTAMP:20260425T233140Z
UID:65622a52-f0d9-42bc-b34d-6b60670efa73
CREATED:20260425T233140Z
DESCRIPTION:https://www.oldtimerweb.be/oldtimer-evenementen/us-car-bike-treffen-posterhol_20836.aspx
LAST-MODIFIED:20260425T233140Z
LOCATION:Vurensteeg 4\, 6061EJ Posterholt\, NL
SEQUENCE:0
STATUS:CONFIRMED
SUMMARY:US Car & Bike treffen Posterhol
TRANSP:OPAQUE
END:VEVENT
END:VCALENDAR
