BEGIN:VCALENDAR
PRODID:-//Compnay Inc//Product Application//EN
VERSION:2.0
METHOD:PUBLISH
BEGIN:VEVENT
DTSTART:20260507T220000Z
DTEND:20260508T215900Z
DTSTAMP:20260425T233140Z
UID:244c2e8b-0ac8-4873-917a-0530a4ef2bcb
CREATED:20260425T233140Z
DESCRIPTION:https://www.oldtimerweb.be/oldtimer-evenementen/us-car-bike-treffen-posterholt_20834.aspx
LAST-MODIFIED:20260425T233140Z
LOCATION:Vurensteeg 4\, 6061EJ Posterholt\, NL
SEQUENCE:0
STATUS:CONFIRMED
SUMMARY:US Car & Bike Treffen Posterholt
TRANSP:OPAQUE
END:VEVENT
END:VCALENDAR
