BEGIN:VCALENDAR
PRODID:-//Compnay Inc//Product Application//EN
VERSION:2.0
METHOD:PUBLISH
BEGIN:VEVENT
DTSTART:20260703T220000Z
DTEND:20260704T215900Z
DTSTAMP:20260425T233141Z
UID:fd477af0-94ef-4ab0-a13a-37bd16ba0f73
CREATED:20260425T233141Z
DESCRIPTION:https://www.oldtimerweb.be/oldtimer-evenementen/dylans-ride_20833.aspx
LAST-MODIFIED:20260425T233141Z
LOCATION:Gauwelstraat 29\, 8550 Zwevegem\, BE
SEQUENCE:0
STATUS:CONFIRMED
SUMMARY:Dylan's ride
TRANSP:OPAQUE
END:VEVENT
END:VCALENDAR
