BEGIN:VCALENDAR
PRODID:-//Compnay Inc//Product Application//EN
VERSION:2.0
METHOD:PUBLISH
BEGIN:VEVENT
DTSTART:20260905T220000Z
DTEND:20260906T215900Z
DTSTAMP:20260425T233141Z
UID:3c8c1f80-dda5-4f06-9921-411872b67024
CREATED:20260425T233141Z
DESCRIPTION:https://www.oldtimerweb.be/oldtimer-evenementen/21ste-antwerp-concours-delegance_20832.aspx
LAST-MODIFIED:20260425T233141Z
LOCATION:Broekstraat 13\, 2110 Wijnegem\, BE
SEQUENCE:0
STATUS:CONFIRMED
SUMMARY:21ste Antwerp Concours d'Elegance
TRANSP:OPAQUE
END:VEVENT
END:VCALENDAR
