BEGIN:VCALENDAR
PRODID:-//Compnay Inc//Product Application//EN
VERSION:2.0
METHOD:PUBLISH
BEGIN:VEVENT
DTSTART:20260425T220000Z
DTEND:20260426T215900Z
DTSTAMP:20260424T212951Z
UID:70ac4d11-424f-4078-8486-fdb4840503bb
CREATED:20260424T212951Z
DESCRIPTION:https://www.oldtimerweb.be/oldtimer-evenementen/summerbabe-3_20831.aspx
LAST-MODIFIED:20260424T212951Z
LOCATION:Alphonse Claeys-Bouüaertlaan 2\, 9030 Mariakerke\, BE
SEQUENCE:0
STATUS:CONFIRMED
SUMMARY:Summerbabe 3
TRANSP:OPAQUE
END:VEVENT
END:VCALENDAR
