BEGIN:VCALENDAR
PRODID:-//Compnay Inc//Product Application//EN
VERSION:2.0
METHOD:PUBLISH
BEGIN:VEVENT
DTSTART:20260507T220000Z
DTEND:20260508T215900Z
DTSTAMP:20260424T021017Z
UID:f6eb5f99-0e2f-460d-9f36-d70b615e4cc2
CREATED:20260424T021017Z
DESCRIPTION:https://www.oldtimerweb.be/oldtimer-evenementen/drinks-food-fun_20828.aspx
LAST-MODIFIED:20260424T021017Z
LOCATION:Kerkstraat 39\, 9550 Herzele\, BE
SEQUENCE:0
STATUS:CONFIRMED
SUMMARY:Drinks, Food & Fun
TRANSP:OPAQUE
END:VEVENT
END:VCALENDAR
