BEGIN:VCALENDAR
PRODID:-//Compnay Inc//Product Application//EN
VERSION:2.0
METHOD:PUBLISH
BEGIN:VEVENT
DTSTART:20260509T220000Z
DTEND:20260510T215900Z
DTSTAMP:20260424T214554Z
UID:74c47fd9-c02f-44f9-9750-fce2109c1ee8
CREATED:20260424T214554Z
DESCRIPTION:https://www.oldtimerweb.be/oldtimer-evenementen/antwerp-classic-car-event-rondrit-voor-prewar-wagens_20826.aspx
LAST-MODIFIED:20260424T214554Z
LOCATION:Cockerillkaai\, 2000 Antwerpen\, BE
SEQUENCE:0
STATUS:CONFIRMED
SUMMARY:Antwerp Classic Car Event rondrit voor prewar wagens
TRANSP:OPAQUE
END:VEVENT
END:VCALENDAR
