BEGIN:VCALENDAR
PRODID:-//Compnay Inc//Product Application//EN
VERSION:2.0
METHOD:PUBLISH
BEGIN:VEVENT
DTSTART:20260605T220000Z
DTEND:20260607T215900Z
DTSTAMP:20260423T032715Z
UID:0efa1471-b3d0-4998-bf78-2c33c6bd38cf
CREATED:20260423T032715Z
DESCRIPTION:https://www.oldtimerweb.be/oldtimer-evenementen/retro-oudenaarde_20825.aspx
LAST-MODIFIED:20260423T032715Z
LOCATION:Maagdendale 31\, 9700 Oudenaarde\, BE
SEQUENCE:0
STATUS:CONFIRMED
SUMMARY:Retro Oudenaarde
TRANSP:OPAQUE
END:VEVENT
END:VCALENDAR
