BEGIN:VCALENDAR
PRODID:-//Compnay Inc//Product Application//EN
VERSION:2.0
METHOD:PUBLISH
BEGIN:VEVENT
DTSTART:20260522T220000Z
DTEND:20260525T215900Z
DTSTAMP:20260423T032715Z
UID:9e556ed1-8e0a-486c-abf1-fdf7b7ff0208
CREATED:20260423T032715Z
DESCRIPTION:https://www.oldtimerweb.be/oldtimer-evenementen/grand-trophee-des-frontieres_20824.aspx
LAST-MODIFIED:20260423T032715Z
LOCATION:Circuit de Chimay\, 6460 Chimay\, BE
SEQUENCE:0
STATUS:CONFIRMED
SUMMARY:Grand Trophée des Frontières
TRANSP:OPAQUE
END:VEVENT
END:VCALENDAR
