BEGIN:VCALENDAR
PRODID:-//Compnay Inc//Product Application//EN
VERSION:2.0
METHOD:PUBLISH
BEGIN:VEVENT
DTSTART:20260612T220000Z
DTEND:20260613T215900Z
DTSTAMP:20260423T032716Z
UID:dfdb1580-a422-464f-8f2f-6eac1ceee92a
CREATED:20260423T032716Z
DESCRIPTION:https://www.oldtimerweb.be/oldtimer-evenementen/coppa-classic-tour_20822.aspx
LAST-MODIFIED:20260423T032716Z
LOCATION:Voorteinde 85\, 2260 Westerlo\, BE
SEQUENCE:0
STATUS:CONFIRMED
SUMMARY:Coppa Classic Tour
TRANSP:OPAQUE
END:VEVENT
END:VCALENDAR
