BEGIN:VCALENDAR
PRODID:-//Compnay Inc//Product Application//EN
VERSION:2.0
METHOD:PUBLISH
BEGIN:VEVENT
DTSTART:20260911T220000Z
DTEND:20260917T215900Z
DTSTAMP:20260423T032715Z
UID:93929065-9745-4f63-ae74-34fd86459500
CREATED:20260423T032715Z
DESCRIPTION:https://www.oldtimerweb.be/oldtimer-evenementen/bacchuc-classic-car-rally_20821.aspx
LAST-MODIFIED:20260423T032715Z
LOCATION:Industrialna 1\, 1000 Sofia\, BE
SEQUENCE:0
STATUS:CONFIRMED
SUMMARY:Bacchuc Classic Car Rally
TRANSP:OPAQUE
END:VEVENT
END:VCALENDAR
