BEGIN:VCALENDAR
PRODID:-//Compnay Inc//Product Application//EN
VERSION:2.0
METHOD:PUBLISH
BEGIN:VEVENT
DTSTART:20260724T220000Z
DTEND:20260726T215900Z
DTSTAMP:20260423T032715Z
UID:d35cc74e-6796-4c63-a89f-a66497b76bcf
CREATED:20260423T032715Z
DESCRIPTION:https://www.oldtimerweb.be/oldtimer-evenementen/rock-petrol_20820.aspx
LAST-MODIFIED:20260423T032715Z
LOCATION:Verrekijker 1\, 8750 Wingene\, BE
SEQUENCE:0
STATUS:CONFIRMED
SUMMARY:Rock Petrol
TRANSP:OPAQUE
END:VEVENT
END:VCALENDAR
