BEGIN:VCALENDAR
PRODID:-//Compnay Inc//Product Application//EN
VERSION:2.0
METHOD:PUBLISH
BEGIN:VEVENT
DTSTART:20260923T220000Z
DTEND:20260924T215900Z
DTSTAMP:20260422T033339Z
UID:6bf565dd-e178-47ea-8da8-afc98569b775
CREATED:20260422T033339Z
DESCRIPTION:https://www.oldtimerweb.be/oldtimer-evenementen/bree-on-wheels-x-foodtruck-festival_20819.aspx
LAST-MODIFIED:20260422T033339Z
LOCATION:Peerderbaan 2\, 3960 Bree\, BE
SEQUENCE:0
STATUS:CONFIRMED
SUMMARY:Bree on Wheels x Foodtruck Festival
TRANSP:OPAQUE
END:VEVENT
END:VCALENDAR
