BEGIN:VCALENDAR
PRODID:-//Compnay Inc//Product Application//EN
VERSION:2.0
METHOD:PUBLISH
BEGIN:VEVENT
DTSTART:20260916T220000Z
DTEND:20260917T215900Z
DTSTAMP:20260422T030608Z
UID:492db0f5-ea9c-460a-88ea-9dd0a55d6eb9
CREATED:20260422T030608Z
DESCRIPTION:https://www.oldtimerweb.be/oldtimer-evenementen/bree-on-wheels-x-foodtruck-festival_20818.aspx
LAST-MODIFIED:20260422T030608Z
LOCATION:Peerderbaan 2\, 3960 Bree\, BE
SEQUENCE:0
STATUS:CONFIRMED
SUMMARY:Bree on Wheels x Foodtruck Festival
TRANSP:OPAQUE
END:VEVENT
END:VCALENDAR
