BEGIN:VCALENDAR
PRODID:-//Compnay Inc//Product Application//EN
VERSION:2.0
METHOD:PUBLISH
BEGIN:VEVENT
DTSTART:20260902T220000Z
DTEND:20260903T215900Z
DTSTAMP:20260422T035413Z
UID:ae921ef3-cddc-457c-a049-1c2d9a99a1aa
CREATED:20260422T035413Z
DESCRIPTION:https://www.oldtimerweb.be/oldtimer-evenementen/bree-on-wheels-x-foodtruck-festival_20816.aspx
LAST-MODIFIED:20260422T035413Z
LOCATION:Peerderbaan 2\, 3960 Bree\, BE
SEQUENCE:0
STATUS:CONFIRMED
SUMMARY:Bree on Wheels x Foodtruck Festival
TRANSP:OPAQUE
END:VEVENT
END:VCALENDAR
