BEGIN:VCALENDAR
PRODID:-//Compnay Inc//Product Application//EN
VERSION:2.0
METHOD:PUBLISH
BEGIN:VEVENT
DTSTART:20260624T220000Z
DTEND:20260625T215900Z
DTSTAMP:20260422T033354Z
UID:09c84a6f-eda8-48a2-a3bf-bc508f73765c
CREATED:20260422T033354Z
DESCRIPTION:https://www.oldtimerweb.be/oldtimer-evenementen/bree-on-wheels-x-foodtruck-festival_20812.aspx
LAST-MODIFIED:20260422T033354Z
LOCATION:Peerderbaan 2\, 3960 Bree\, BE
SEQUENCE:0
STATUS:CONFIRMED
SUMMARY:Bree on Wheels x Foodtruck Festival
TRANSP:OPAQUE
END:VEVENT
END:VCALENDAR
