BEGIN:VCALENDAR
PRODID:-//Compnay Inc//Product Application//EN
VERSION:2.0
METHOD:PUBLISH
BEGIN:VEVENT
DTSTART:20260527T220000Z
DTEND:20260528T215900Z
DTSTAMP:20260422T031542Z
UID:df527a3f-1de0-4682-bfd6-53a5ecdb6a1b
CREATED:20260422T031542Z
DESCRIPTION:https://www.oldtimerweb.be/oldtimer-evenementen/bree-on-wheels-x-foodtruck-festival_20808.aspx
LAST-MODIFIED:20260422T031542Z
LOCATION:Peerderbaan 2\, 3960 Bree\, BE
SEQUENCE:0
STATUS:CONFIRMED
SUMMARY:Bree on Wheels x Foodtruck Festival
TRANSP:OPAQUE
END:VEVENT
END:VCALENDAR
