BEGIN:VCALENDAR
PRODID:-//Compnay Inc//Product Application//EN
VERSION:2.0
METHOD:PUBLISH
BEGIN:VEVENT
DTSTART:20260814T220000Z
DTEND:20260815T215900Z
DTSTAMP:20260421T050003Z
UID:84424387-f60e-4266-a801-faf244610d10
CREATED:20260421T050003Z
DESCRIPTION:https://www.oldtimerweb.be/oldtimer-evenementen/hagelands-oldtimer-treffen_20804.aspx
LAST-MODIFIED:20260421T050003Z
LOCATION:Heibosstraat 17\, 3391 Meensel-Kiezegem\, BE
SEQUENCE:0
STATUS:CONFIRMED
SUMMARY:Hagelands Oldtimer Treffen
TRANSP:OPAQUE
END:VEVENT
END:VCALENDAR
