BEGIN:VCALENDAR
PRODID:-//Compnay Inc//Product Application//EN
VERSION:2.0
METHOD:PUBLISH
BEGIN:VEVENT
DTSTART:20260523T220000Z
DTEND:20260524T215900Z
DTSTAMP:20260421T051016Z
UID:e3ed2509-65b5-4c1c-b3bd-8d63c0b46143
CREATED:20260421T051016Z
DESCRIPTION:https://www.oldtimerweb.be/oldtimer-evenementen/vlerick-oldtimer-rally_20803.aspx
LAST-MODIFIED:20260421T051016Z
LOCATION:Willem van Halmalelaan 1\, 2110 Wijnegem\, BE
SEQUENCE:0
STATUS:CONFIRMED
SUMMARY:Vlerick Oldtimer Rally
TRANSP:OPAQUE
END:VEVENT
END:VCALENDAR
