BEGIN:VCALENDAR
PRODID:-//Compnay Inc//Product Application//EN
VERSION:2.0
METHOD:PUBLISH
BEGIN:VEVENT
DTSTART:20260911T220000Z
DTEND:20260912T215900Z
DTSTAMP:20260421T041954Z
UID:61715e18-d37e-46ed-85fc-c62f207b9a9a
CREATED:20260421T041954Z
DESCRIPTION:https://www.oldtimerweb.be/oldtimer-evenementen/martens-exclusive-rally_20802.aspx
LAST-MODIFIED:20260421T041954Z
LOCATION:Assesteenweg 122/3\, 1750 Lennik\, BE
SEQUENCE:0
STATUS:CONFIRMED
SUMMARY:Martens Exclusive Rally
TRANSP:OPAQUE
END:VEVENT
END:VCALENDAR
