BEGIN:VCALENDAR
PRODID:-//Compnay Inc//Product Application//EN
VERSION:2.0
METHOD:PUBLISH
BEGIN:VEVENT
DTSTART:20260425T220000Z
DTEND:20260426T215900Z
DTSTAMP:20260421T050523Z
UID:da11ff53-97ff-4c92-949e-26e2c709d747
CREATED:20260421T050523Z
DESCRIPTION:https://www.oldtimerweb.be/oldtimer-evenementen/oldtimers-and-friends_20801.aspx
LAST-MODIFIED:20260421T050523Z
LOCATION:Starrenhoflaan\, 2950 Kapellen\, BE
SEQUENCE:0
STATUS:CONFIRMED
SUMMARY:Oldtimers and friends
TRANSP:OPAQUE
END:VEVENT
END:VCALENDAR
