BEGIN:VCALENDAR
PRODID:-//Compnay Inc//Product Application//EN
VERSION:2.0
METHOD:PUBLISH
BEGIN:VEVENT
DTSTART:20260620T220000Z
DTEND:20260621T215900Z
DTSTAMP:20260421T012603Z
UID:208ca028-3271-4589-acf8-ed3a10cfec69
CREATED:20260421T012603Z
DESCRIPTION:https://www.oldtimerweb.be/oldtimer-evenementen/wheels-lights-for-life_20800.aspx
LAST-MODIFIED:20260421T012603Z
LOCATION:Europahal Generaal Maczekplein 7\, 8700 Tielt\, BE
SEQUENCE:0
STATUS:CONFIRMED
SUMMARY:Wheels & Lights for life
TRANSP:OPAQUE
END:VEVENT
END:VCALENDAR
