BEGIN:VCALENDAR
PRODID:-//Compnay Inc//Product Application//EN
VERSION:2.0
METHOD:PUBLISH
BEGIN:VEVENT
DTSTART:20260613T220000Z
DTEND:20260614T215900Z
DTSTAMP:20260420T042019Z
UID:79a923e3-64e6-48a2-8aff-6273c5500631
CREATED:20260420T042019Z
DESCRIPTION:https://www.oldtimerweb.be/oldtimer-evenementen/dorpsfeest-achel_20799.aspx
LAST-MODIFIED:20260420T042019Z
LOCATION:Generaal Dempseylaan 14\, 3930 Hamont-Achel\, BE
SEQUENCE:0
STATUS:CONFIRMED
SUMMARY:Dorpsfeest Achel
TRANSP:OPAQUE
END:VEVENT
END:VCALENDAR
