BEGIN:VCALENDAR
PRODID:-//Compnay Inc//Product Application//EN
VERSION:2.0
METHOD:PUBLISH
BEGIN:VEVENT
DTSTART:20260808T220000Z
DTEND:20260809T215900Z
DTSTAMP:20260420T042019Z
UID:9aa6be3f-6bff-41e0-9ff5-0777c5aa911b
CREATED:20260420T042019Z
DESCRIPTION:https://www.oldtimerweb.be/oldtimer-evenementen/oldtimerslichtfeesten_20798.aspx
LAST-MODIFIED:20260420T042019Z
LOCATION:Rozenlaan\, 2840 Reet\, BE
SEQUENCE:0
STATUS:CONFIRMED
SUMMARY:Oldtimers@Lichtfeesten
TRANSP:OPAQUE
END:VEVENT
END:VCALENDAR
