BEGIN:VCALENDAR
PRODID:-//Compnay Inc//Product Application//EN
VERSION:2.0
METHOD:PUBLISH
BEGIN:VEVENT
DTSTART:20260418T220000Z
DTEND:20260419T215900Z
DTSTAMP:20260420T042019Z
UID:5f868e6f-e42d-4912-9eed-d460d3999603
CREATED:20260420T042019Z
DESCRIPTION:https://www.oldtimerweb.be/oldtimer-evenementen/cars-coffee-by-driven-legends_20795.aspx
LAST-MODIFIED:20260420T042019Z
LOCATION:Bosstraat 46 unit 41\, 3560 Lummen\, BE
SEQUENCE:0
STATUS:CONFIRMED
SUMMARY:Cars & Coffee by Driven Legends
TRANSP:OPAQUE
END:VEVENT
END:VCALENDAR
