BEGIN:VCALENDAR
PRODID:-//Compnay Inc//Product Application//EN
VERSION:2.0
METHOD:PUBLISH
BEGIN:VEVENT
DTSTART:20260509T220000Z
DTEND:20260510T215900Z
DTSTAMP:20260419T220757Z
UID:a1bedf38-4362-4da8-94e9-6162dda26b16
CREATED:20260419T220757Z
DESCRIPTION:https://www.oldtimerweb.be/oldtimer-evenementen/il-vostro-giro-mahymobiles_20793.aspx
LAST-MODIFIED:20260419T220757Z
LOCATION:Grimmingeplein 6\, 9506 Geraardsbergen\, BE
SEQUENCE:0
STATUS:CONFIRMED
SUMMARY:Il Vostro Giro @ MahyMobiles
TRANSP:OPAQUE
END:VEVENT
END:VCALENDAR
