BEGIN:VCALENDAR
PRODID:-//Compnay Inc//Product Application//EN
VERSION:2.0
METHOD:PUBLISH
BEGIN:VEVENT
DTSTART:20260424T220000Z
DTEND:20260425T215900Z
DTSTAMP:20260419T215351Z
UID:fa1f4a3b-ab49-4b66-a04f-727bd91722a4
CREATED:20260419T215351Z
DESCRIPTION:https://www.oldtimerweb.be/oldtimer-evenementen/passion-and-cars-oldtimermeeting_20792.aspx
LAST-MODIFIED:20260419T215351Z
LOCATION:Station\, 1745 Opwijk\, BE
SEQUENCE:0
STATUS:CONFIRMED
SUMMARY:Passion and Cars Oldtimermeeting
TRANSP:OPAQUE
END:VEVENT
END:VCALENDAR
