BEGIN:VCALENDAR
PRODID:-//Compnay Inc//Product Application//EN
VERSION:2.0
METHOD:PUBLISH
BEGIN:VEVENT
DTSTART:20260508T220000Z
DTEND:20260509T215900Z
DTSTAMP:20260419T215135Z
UID:0e084aaf-fb8d-4621-bb47-9227871c9305
CREATED:20260419T215135Z
DESCRIPTION:https://www.oldtimerweb.be/oldtimer-evenementen/mahy-miniatuurbeurs-folderbeurs_20791.aspx
LAST-MODIFIED:20260419T215135Z
LOCATION:Rue Erna 3\, 7900 Leuze en Hainaut\, BE
SEQUENCE:0
STATUS:CONFIRMED
SUMMARY:Mahy miniatuurbeurs & folderbeurs
TRANSP:OPAQUE
END:VEVENT
END:VCALENDAR
