BEGIN:VCALENDAR
PRODID:-//Compnay Inc//Product Application//EN
VERSION:2.0
METHOD:PUBLISH
BEGIN:VEVENT
DTSTART:20260620T220000Z
DTEND:20260621T215900Z
DTSTAMP:20260419T221622Z
UID:51165406-9370-4303-ae75-eeff9140bf60
CREATED:20260419T221622Z
DESCRIPTION:https://www.oldtimerweb.be/oldtimer-evenementen/8500-klassiek-toer_20789.aspx
LAST-MODIFIED:20260419T221622Z
LOCATION:8500 Kortrijk\, BE
SEQUENCE:0
STATUS:CONFIRMED
SUMMARY:8500 Klassiek Toer
TRANSP:OPAQUE
END:VEVENT
END:VCALENDAR
