BEGIN:VCALENDAR
PRODID:-//Compnay Inc//Product Application//EN
VERSION:2.0
METHOD:PUBLISH
BEGIN:VEVENT
DTSTART:20260814T220000Z
DTEND:20260815T215900Z
DTSTAMP:20260426T020811Z
UID:c9ccbf79-cd85-4f17-bd5c-db373f8bcb09
CREATED:20260426T020811Z
DESCRIPTION:https://www.oldtimerweb.be/oldtimer-evenementen/strijden-voor-kinderen_20423.aspx
LAST-MODIFIED:20260426T020811Z
LOCATION:Markt\, 9800 Deinze\, BE
SEQUENCE:0
STATUS:CONFIRMED
SUMMARY:(ST)rijden voor Kinderen
TRANSP:OPAQUE
END:VEVENT
END:VCALENDAR
