BEGIN:VCALENDAR
PRODID:-//Compnay Inc//Product Application//EN
VERSION:2.0
METHOD:PUBLISH
BEGIN:VEVENT
DTSTART:20260926T220000Z
DTEND:20260927T215900Z
DTSTAMP:20260426T030915Z
UID:874a366e-fe04-4974-9497-df4813cb23ce
CREATED:20260426T030915Z
DESCRIPTION:https://www.oldtimerweb.be/oldtimer-evenementen/cars-coffee-oostende_20422.aspx
LAST-MODIFIED:20260426T030915Z
LOCATION:Wandelaarkaai\, 8400 Oostende\, BE
SEQUENCE:0
STATUS:CONFIRMED
SUMMARY:Cars & Coffee Oostende
TRANSP:OPAQUE
END:VEVENT
END:VCALENDAR
