BEGIN:VCALENDAR
PRODID:-//Compnay Inc//Product Application//EN
VERSION:2.0
METHOD:PUBLISH
BEGIN:VEVENT
DTSTART:20260829T220000Z
DTEND:20260830T215900Z
DTSTAMP:20260426T031416Z
UID:63c09481-e28a-4a4a-a7b0-c2a46d3127dd
CREATED:20260426T031416Z
DESCRIPTION:https://www.oldtimerweb.be/oldtimer-evenementen/cars-coffee-oostende_20421.aspx
LAST-MODIFIED:20260426T031416Z
LOCATION:Wandelaarkaai\, 8400 Oostende\, BE
SEQUENCE:0
STATUS:CONFIRMED
SUMMARY:Cars & Coffee Oostende
TRANSP:OPAQUE
END:VEVENT
END:VCALENDAR
