BEGIN:VCALENDAR
PRODID:-//Compnay Inc//Product Application//EN
VERSION:2.0
METHOD:PUBLISH
BEGIN:VEVENT
DTSTART:20260627T220000Z
DTEND:20260628T215900Z
DTSTAMP:20260426T020951Z
UID:cb7ef705-7a8d-4cfd-90c1-73d01f16e95c
CREATED:20260426T020951Z
DESCRIPTION:https://www.oldtimerweb.be/oldtimer-evenementen/cars-coffee-oostende_20419.aspx
LAST-MODIFIED:20260426T020951Z
LOCATION:Wandelaarkaai\, 8400 Oostende\, BE
SEQUENCE:0
STATUS:CONFIRMED
SUMMARY:Cars & Coffee Oostende
TRANSP:OPAQUE
END:VEVENT
END:VCALENDAR
