BEGIN:VCALENDAR
PRODID:-//Compnay Inc//Product Application//EN
VERSION:2.0
METHOD:PUBLISH
BEGIN:VEVENT
DTSTART:20260530T220000Z
DTEND:20260531T215900Z
DTSTAMP:20260426T030714Z
UID:280ab85b-4486-492e-9f2c-1d75694f45ae
CREATED:20260426T030714Z
DESCRIPTION:https://www.oldtimerweb.be/oldtimer-evenementen/cars-coffee-oostende_20418.aspx
LAST-MODIFIED:20260426T030714Z
LOCATION:Wandelaarkaai\, 8400 Oostende\, BE
SEQUENCE:0
STATUS:CONFIRMED
SUMMARY:Cars & Coffee Oostende
TRANSP:OPAQUE
END:VEVENT
END:VCALENDAR
