BEGIN:VCALENDAR
PRODID:-//Compnay Inc//Product Application//EN
VERSION:2.0
METHOD:PUBLISH
BEGIN:VEVENT
DTSTART:20260425T220000Z
DTEND:20260426T215900Z
DTSTAMP:20260426T022636Z
UID:0714cf6f-f908-41ee-88bb-27cc1601b0b0
CREATED:20260426T022636Z
DESCRIPTION:https://www.oldtimerweb.be/oldtimer-evenementen/cars-coffee-oostende_20417.aspx
LAST-MODIFIED:20260426T022636Z
LOCATION:Wandelaarkaai\, 8400 Oostende\, BE
SEQUENCE:0
STATUS:CONFIRMED
SUMMARY:Cars & Coffee Oostende
TRANSP:OPAQUE
END:VEVENT
END:VCALENDAR
