BEGIN:VCALENDAR
PRODID:-//Compnay Inc//Product Application//EN
VERSION:2.0
METHOD:PUBLISH
BEGIN:VEVENT
DTSTART:20260606T220000Z
DTEND:20260607T215900Z
DTSTAMP:20260426T030806Z
UID:f9fb0238-9285-4d95-badc-40063772bd25
CREATED:20260426T030806Z
DESCRIPTION:https://www.oldtimerweb.be/oldtimer-evenementen/6de-rit-les-vieux-volants-descanaffles_20416.aspx
LAST-MODIFIED:20260426T030806Z
LOCATION:Rue Parfait 14\, 7760 Celles\, BE
SEQUENCE:0
STATUS:CONFIRMED
SUMMARY:6de Rit "Les Vieux Volants D'escanaffles"
TRANSP:OPAQUE
END:VEVENT
END:VCALENDAR
