BEGIN:VCALENDAR
PRODID:-//Compnay Inc//Product Application//EN
VERSION:2.0
METHOD:PUBLISH
BEGIN:VEVENT
DTSTART:20260522T220000Z
DTEND:20260523T215900Z
DTSTAMP:20260425T201514Z
UID:88a43be1-9c1d-4a90-b199-9656660edbaa
CREATED:20260425T201514Z
DESCRIPTION:https://www.oldtimerweb.be/oldtimer-evenementen/zwijntjesrit_20412.aspx
LAST-MODIFIED:20260425T201514Z
LOCATION:9521 Letterhoutem\, BE
SEQUENCE:0
STATUS:CONFIRMED
SUMMARY:Zwijntjesrit
TRANSP:OPAQUE
END:VEVENT
END:VCALENDAR
