BEGIN:VCALENDAR
PRODID:-//Compnay Inc//Product Application//EN
VERSION:2.0
METHOD:PUBLISH
BEGIN:VEVENT
DTSTART:20260509T220000Z
DTEND:20260510T215900Z
DTSTAMP:20260425T040204Z
UID:86c731a2-7cc4-4fdd-9648-e849f48b3d0e
CREATED:20260425T040204Z
DESCRIPTION:https://www.oldtimerweb.be/oldtimer-evenementen/oldtimerwijding-met-rondrit-de-retro-mobielen_20411.aspx
LAST-MODIFIED:20260425T040204Z
LOCATION:Reedijk\, 1785 Merchtem\, BE
SEQUENCE:0
STATUS:CONFIRMED
SUMMARY:Oldtimerwijding met rondrit De Retro Mobielen
TRANSP:OPAQUE
END:VEVENT
END:VCALENDAR
