BEGIN:VCALENDAR
PRODID:-//Compnay Inc//Product Application//EN
VERSION:2.0
METHOD:PUBLISH
BEGIN:VEVENT
DTSTART:20260619T220000Z
DTEND:20260620T215900Z
DTSTAMP:20260424T202820Z
UID:44230a75-bacd-4762-8099-355ef0c3380e
CREATED:20260424T202820Z
DESCRIPTION:https://www.oldtimerweb.be/oldtimer-evenementen/2de-gusties-classic-tour_20408.aspx
LAST-MODIFIED:20260424T202820Z
LOCATION:Ingooigemstraat 1\, 8553 Otegem\, BE
SEQUENCE:0
STATUS:CONFIRMED
SUMMARY:2de Gustie's classic tour
TRANSP:OPAQUE
END:VEVENT
END:VCALENDAR
