BEGIN:VCALENDAR
PRODID:-//Compnay Inc//Product Application//EN
VERSION:2.0
METHOD:PUBLISH
BEGIN:VEVENT
DTSTART:20260703T220000Z
DTEND:20260704T215900Z
DTSTAMP:20260424T235608Z
UID:a6e20e4c-3a08-4a00-be57-a00545f01d23
CREATED:20260424T235608Z
DESCRIPTION:https://www.oldtimerweb.be/oldtimer-evenementen/gusties-brommer-rit_20407.aspx
LAST-MODIFIED:20260424T235608Z
LOCATION:Ingooigemstraat 1\, 8553 Otegem\, BE
SEQUENCE:0
STATUS:CONFIRMED
SUMMARY:Gustie's brommer rit
TRANSP:OPAQUE
END:VEVENT
END:VCALENDAR
