BEGIN:VCALENDAR
PRODID:-//Compnay Inc//Product Application//EN
VERSION:2.0
METHOD:PUBLISH
BEGIN:VEVENT
DTSTART:20260516T220000Z
DTEND:20260517T215900Z
DTSTAMP:20260424T215846Z
UID:55ed64eb-1fbc-441d-b06f-a336a5c62393
CREATED:20260424T215846Z
DESCRIPTION:https://www.oldtimerweb.be/oldtimer-evenementen/distinguished-gentlemans-ride-roeselare_20406.aspx
LAST-MODIFIED:20260424T215846Z
LOCATION:Stationsplein\, 8800 Roeselare\, BE
SEQUENCE:0
STATUS:CONFIRMED
SUMMARY:Distinguished Gentleman's Ride Roeselare
TRANSP:OPAQUE
END:VEVENT
END:VCALENDAR
