BEGIN:VCALENDAR
PRODID:-//Compnay Inc//Product Application//EN
VERSION:2.0
METHOD:PUBLISH
BEGIN:VEVENT
DTSTART:20261016T220000Z
DTEND:20261017T215900Z
DTSTAMP:20260424T203058Z
UID:31fa710d-2c4f-44f8-a66b-025de1e359d0
CREATED:20260424T203058Z
DESCRIPTION:https://www.oldtimerweb.be/oldtimer-evenementen/kempenrit_20405.aspx
LAST-MODIFIED:20260424T203058Z
LOCATION:Populierenhoeve 22\, 2240 Zandhoven\, BE
SEQUENCE:0
STATUS:CONFIRMED
SUMMARY:Kempenrit
TRANSP:OPAQUE
END:VEVENT
END:VCALENDAR
