BEGIN:VCALENDAR
PRODID:-//Compnay Inc//Product Application//EN
VERSION:2.0
METHOD:PUBLISH
BEGIN:VEVENT
DTSTART:20261016T220000Z
DTEND:20261017T215900Z
DTSTAMP:20260425T025506Z
UID:4f3dc021-d3fd-4643-8606-f23c8503b3c9
CREATED:20260425T025506Z
DESCRIPTION:https://www.oldtimerweb.be/oldtimer-evenementen/6-uren-van-de-noorderkempen_20404.aspx
LAST-MODIFIED:20260425T025506Z
LOCATION:Populierenhoeve 22\, 2240 Zandhoven\, BE
SEQUENCE:0
STATUS:CONFIRMED
SUMMARY:6 uren van de Noorderkempen
TRANSP:OPAQUE
END:VEVENT
END:VCALENDAR
