BEGIN:VCALENDAR
PRODID:-//Compnay Inc//Product Application//EN
VERSION:2.0
METHOD:PUBLISH
BEGIN:VEVENT
DTSTART:20260516T220000Z
DTEND:20260517T215900Z
DTSTAMP:20260424T213338Z
UID:0ae27b32-9e38-4f3b-a806-2a58eb37a513
CREATED:20260424T213338Z
DESCRIPTION:https://www.oldtimerweb.be/oldtimer-evenementen/molentocht_20399.aspx
LAST-MODIFIED:20260424T213338Z
LOCATION:Calandweg 36\, 4341RA Arnemuiden\, NL
SEQUENCE:0
STATUS:CONFIRMED
SUMMARY:Molentocht
TRANSP:OPAQUE
END:VEVENT
END:VCALENDAR
