BEGIN:VCALENDAR
PRODID:-//Compnay Inc//Product Application//EN
VERSION:2.0
METHOD:PUBLISH
BEGIN:VEVENT
DTSTART:20260515T220000Z
DTEND:20260516T215900Z
DTSTAMP:20260424T235135Z
UID:32266f52-1906-4a42-99d1-46d2ec8253c8
CREATED:20260424T235135Z
DESCRIPTION:https://www.oldtimerweb.be/oldtimer-evenementen/ford-oldtimer-onderdelenmarkt_20397.aspx
LAST-MODIFIED:20260424T235135Z
LOCATION:Generaal de Krahestraat 112\, 3970 Leopoldsburg\, BE
SEQUENCE:0
STATUS:CONFIRMED
SUMMARY:Ford oldtimer onderdelenmarkt
TRANSP:OPAQUE
END:VEVENT
END:VCALENDAR
