BEGIN:VCALENDAR
PRODID:-//Compnay Inc//Product Application//EN
VERSION:2.0
METHOD:PUBLISH
BEGIN:VEVENT
DTSTART:20260918T220000Z
DTEND:20260919T215900Z
DTSTAMP:20260424T155221Z
UID:81a44b63-3117-4ada-ad68-52367b4cbcf5
CREATED:20260424T155221Z
DESCRIPTION:https://www.oldtimerweb.be/oldtimer-evenementen/leoclassics_20395.aspx
LAST-MODIFIED:20260424T155221Z
LOCATION:Koningin Astridplein\, 3970 Leopoldsburg\, BE
SEQUENCE:0
STATUS:CONFIRMED
SUMMARY:LeoClassics
TRANSP:OPAQUE
END:VEVENT
END:VCALENDAR
