BEGIN:VCALENDAR
PRODID:-//Compnay Inc//Product Application//EN
VERSION:2.0
METHOD:PUBLISH
BEGIN:VEVENT
DTSTART:20260814T220000Z
DTEND:20260815T215900Z
DTSTAMP:20260424T170358Z
UID:e72dc54e-8703-4138-9810-f82e1e8c5d5e
CREATED:20260424T170358Z
DESCRIPTION:https://www.oldtimerweb.be/oldtimer-evenementen/leoclassics_20394.aspx
LAST-MODIFIED:20260424T170358Z
LOCATION:Koningin Astridplein\, 3970 Leopoldsburg\, BE
SEQUENCE:0
STATUS:CONFIRMED
SUMMARY:LeoClassics
TRANSP:OPAQUE
END:VEVENT
END:VCALENDAR
